BEGIN:VCALENDAR
VERSION:2.0
PRODID:-//Turtle Guardians - ECPv6.15.20//NONSGML v1.0//EN
CALSCALE:GREGORIAN
METHOD:PUBLISH
X-ORIGINAL-URL:https://www.turtleguardians.com
X-WR-CALDESC:Events for Turtle Guardians
REFRESH-INTERVAL;VALUE=DURATION:PT1H
X-Robots-Tag:noindex
X-PUBLISHED-TTL:PT1H
BEGIN:VTIMEZONE
TZID:America/Toronto
BEGIN:DAYLIGHT
TZOFFSETFROM:-0500
TZOFFSETTO:-0400
TZNAME:EDT
DTSTART:20170312T070000
END:DAYLIGHT
BEGIN:STANDARD
TZOFFSETFROM:-0400
TZOFFSETTO:-0500
TZNAME:EST
DTSTART:20171105T060000
END:STANDARD
BEGIN:DAYLIGHT
TZOFFSETFROM:-0500
TZOFFSETTO:-0400
TZNAME:EDT
DTSTART:20180311T070000
END:DAYLIGHT
BEGIN:STANDARD
TZOFFSETFROM:-0400
TZOFFSETTO:-0500
TZNAME:EST
DTSTART:20181104T060000
END:STANDARD
BEGIN:DAYLIGHT
TZOFFSETFROM:-0500
TZOFFSETTO:-0400
TZNAME:EDT
DTSTART:20190310T070000
END:DAYLIGHT
BEGIN:STANDARD
TZOFFSETFROM:-0400
TZOFFSETTO:-0500
TZNAME:EST
DTSTART:20191103T060000
END:STANDARD
BEGIN:DAYLIGHT
TZOFFSETFROM:-0500
TZOFFSETTO:-0400
TZNAME:EDT
DTSTART:20200308T070000
END:DAYLIGHT
BEGIN:STANDARD
TZOFFSETFROM:-0400
TZOFFSETTO:-0500
TZNAME:EST
DTSTART:20201101T060000
END:STANDARD
END:VTIMEZONE
BEGIN:VEVENT
DTSTART;TZID=America/Toronto:20190311T090000
DTEND;TZID=America/Toronto:20190412T170000
DTSTAMP:20260423T084353
CREATED:20190208T011919Z
LAST-MODIFIED:20190309T010704Z
UID:1512-1552294800-1555088400@www.turtleguardians.com
SUMMARY:Reptile Camp at Scales Nature Park
DESCRIPTION:Ages 7-12    (younger by special exception)\n\n\nOur camp days and schedules revolve around the campers and their preferences\, implementing an unstructured play and learning approach. Depending on interest\, campers may spend more time outside exploring\, inside looking after animals\, or otherwise. We make sure everyone is given personalized attention and has a blast at Reptile Camp! \n\n\nDuring their week at Reptile Camp\, campers will: \n\n\nlearn about reptiles\, amphibians\, and more \n\n\nhave hands-on experiences with our collection of native and exotic reptiles \n\n\nexplore pond and forest habitats \n\n\ncatch some cool creatures \n\n\nlearn the importance of respecting and conserving nature \n\n\nfeed their favourite reptiles \n\n\nplay games \n\n\nmake crafts to bring home \n\n\n\n\n\n\n\n\n\n\n\n\n\n\n\n\n\n\n\n\n\n\n\nAges 13-17\n\n\nOur Leader in Training (LIT) program offers experience and guidance in the world of summer camp\, leadership\, recreational programming\, and animal care! It is our goal that LITs will add to their experience\, skillset\, and confidence in order to excel in future leadership positions. \n\n\nIn addition to camper activities\, our LITs will: \n\n\ndesign and lead an activity for the other campers (ie. craft or game) \n\n\ngain knowledge of organizing activities\, safety\, equipment use\, record keeping\, first aid\, and more \n\n\nlearn leadership and planning skills \n\n\nparticipate in more advanced animal care with our Animal Care staff \n\n\n\n\n\n\n\n\n\n\n\n\n\n\n\n\n\n\n\n\n\nTo enroll or find out more visit http://www.scalesnaturepark.ca/reptile-camp
URL:https://www.turtleguardians.com/event/reptile-camp/
END:VEVENT
BEGIN:VEVENT
DTSTART;TZID=America/Toronto:20190222T120000
DTEND;TZID=America/Toronto:20190223T170000
DTSTAMP:20260423T084353
CREATED:20190131T224805Z
LAST-MODIFIED:20190131T224805Z
UID:1404-1550836800-1550941200@www.turtleguardians.com
SUMMARY:Turtle Guardian Award Ceremony and Strategy Retreat
DESCRIPTION:Meet Kelly Wallace\, our Turtle Guardian of the Year! Kelly is responsible for raising more than $3000 to help the Turtle Trauma Centre buy an ECG unit and more medicine to help turtles. She has also raised a ton of awareness too through her “Watch4Turtles” sign campaign where she partnered with the Beavers and Boy Scouts too! Kelly has contributed invaluably to conservation by raising awareness through her Think Turtle Initiative…she writes blogs\, recruits yarn bombers\, and regularly visits farmer’s markets and venues throughout the year to raise awareness about turtle conservation and to answer questions. \nThe weekend retreat will also feature a brainstorming session to find ways to sustain our efforts in conserving turtles into the future and for future generations. \n  \nSee the retreat poster here.  
URL:https://www.turtleguardians.com/event/turtle-guardian-award-ceremony-and-strategy-retreat/
END:VEVENT
BEGIN:VEVENT
DTSTART;TZID=America/Toronto:20190202T090000
DTEND;TZID=America/Toronto:20190202T120000
DTSTAMP:20260423T084353
CREATED:20190131T223834Z
LAST-MODIFIED:20190131T223834Z
UID:1401-1549098000-1549108800@www.turtleguardians.com
SUMMARY:Turtle Tour Day!
DESCRIPTION:‘s Turtle Tour Day on Saturday February 2nd. Meet the gang between 9 and noon at the HHOA hatchery at 6712 Gelert Road in Haliburton. Learn about the perils that turtles face; cool facts about these dinosaurs that you many not know; and how to identify them too. Watch the turtles get their physiotherapy sessions too.
URL:https://www.turtleguardians.com/event/turtle-tour-day/
ATTACH;FMTTYPE=image/jpeg:https://www.turtleguardians.com/wp-content/uploads/2019/01/turtle-tour-day.jpg
END:VEVENT
BEGIN:VEVENT
DTSTART;TZID=America/Toronto:20190105T090000
DTEND;TZID=America/Toronto:20190105T120000
DTSTAMP:20260423T084353
CREATED:20190104T000358Z
LAST-MODIFIED:20190104T000358Z
UID:1277-1546678800-1546689600@www.turtleguardians.com
SUMMARY:Teaching Turtle Tour
DESCRIPTION:Meet our teaching turtles and take a tour of the hatchery too! Free to the public and kids are welcome.
URL:https://www.turtleguardians.com/event/teaching-turtle-tour/
LOCATION:The TG Headquarters. The portable building nest to the Haliburton Highlands Outdoors Association and Hatchery\, 6712 Gelert Road\, Haliburton\, Ontario\, K0M 1s0\, Canada
ATTACH;FMTTYPE=image/jpeg:https://www.turtleguardians.com/wp-content/uploads/2019/01/snapper.jpg
END:VEVENT
BEGIN:VEVENT
DTSTART;TZID=America/Toronto:20181020T083000
DTEND;TZID=America/Toronto:20181020T150000
DTSTAMP:20260423T084353
CREATED:20180920T183945Z
LAST-MODIFIED:20180920T184056Z
UID:1143-1540024200-1540047600@www.turtleguardians.com
SUMMARY:2018 Lake Links Workshop
DESCRIPTION:“Our Lake\, My Responsibility- Our Reward” \nLeora Berman\, Keynote Address. \nAt this year’s workshop\, explore the importance of good property level decisions. Receive input from local experts. Meet the 1st recipient of the Gord Rogers Stewardship Award. \nSince 2002 Lake Links has allowed lake associations and other volunteer groups in Eastern Ontario come together with government and non-government agencies to listen to speakers\, share information and address common lake and river issues that matter in our communities.
URL:https://www.turtleguardians.com/event/2018-lake-links-workshop/
LOCATION:Perth Civitan Hall\, County Road 43\, Perth
ATTACH;FMTTYPE=image/png:https://www.turtleguardians.com/wp-content/uploads/2018/09/lake-links-e1537468776231.png
END:VEVENT
BEGIN:VEVENT
DTSTART;TZID=America/Toronto:20181013T100000
DTEND;TZID=America/Toronto:20181013T120000
DTSTAMP:20260423T084353
CREATED:20180904T184835Z
LAST-MODIFIED:20180904T184835Z
UID:1132-1539424800-1539432000@www.turtleguardians.com
SUMMARY:Design Your Own Shoreline Garden_ Curve Lake/Buckhorn
DESCRIPTION:Our popular workshops continue! Learn with the experts and walk away with a custom garden design for your shoreline. Choose your pallet and your plants. Maintain views. Deter Geese. Increase biodiversity and filter water too! Work with the experts. Naturalize and improve your shore in one morning session. We will broker your plant order too. This year\, enter for a chance to win $200 in plants. Snacks and coffee included. $20.00. Please register at www.shorelinegardens.ca
URL:https://www.turtleguardians.com/event/design-your-own-shoreline-garden_-curve-lake-buckhorn/
END:VEVENT
BEGIN:VEVENT
DTSTART;TZID=America/Toronto:20180920T190000
DTEND;TZID=America/Toronto:20180920T203000
DTSTAMP:20260423T084353
CREATED:20180814T184111Z
LAST-MODIFIED:20180814T184230Z
UID:1112-1537470000-1537475400@www.turtleguardians.com
SUMMARY:My First Shot Movie and TLB AGM
DESCRIPTION:Join us on September 20th\, from 7 to 8:30 at the Haliburton Highlands Outdoors Association for a warm and welcoming evening. Watch Haliburton and Curve Lake hunters meet a non-hunter from L.A. in an HD production of “My First Shot”. \nLiberal meets Conservative. City meets Country. Hunter meets non-hunter. \nLearn about the relationship of hunting to modern conservation. \nThis the TLB AGM. Meeting at 7 to about 7:30 — movie showing after. \nThis even is free\, but seating is limited\, so please let us know you are coming: Call Leora at 705-457-4838 or email info@thelandbetween.ca
URL:https://www.turtleguardians.com/event/my-first-shot-movie-and-tlb-agm/
LOCATION:The TG Headquarters. The portable building nest to the Haliburton Highlands Outdoors Association and Hatchery\, 6712 Gelert Road\, Haliburton\, Ontario\, K0M 1s0\, Canada
ATTACH;FMTTYPE=image/jpeg:https://www.turtleguardians.com/wp-content/uploads/2018/08/Erin-KeithCamp-End-Int-2.jpg
END:VEVENT
BEGIN:VEVENT
DTSTART;TZID=America/Toronto:20180908T100000
DTEND;TZID=America/Toronto:20180908T120000
DTSTAMP:20260423T084353
CREATED:20180519T205557Z
LAST-MODIFIED:20180904T184410Z
UID:1041-1536400800-1536408000@www.turtleguardians.com
SUMMARY:RESCHEDULED- Design Your Own Shoreline Garden- Curve Lake First Nation
DESCRIPTION:This workshop is rescheduled for October 13th! \nOur popular workshops continue! Learn with the experts and walk away with a custom garden design for your shoreline. Choose your palet and your plants. Maintain views. Deter Geese. Increase biodiversity and filter water too! Work with the experts. Naturalize and improve your shore in one morning session. We will broker your plant order too. This year\, enter for a chance to win $200 in plants. Snacks and coffee included. $20.00. Please register at www.shorelinegardens.ca \n 
URL:https://www.turtleguardians.com/event/design-your-own-shoreline-garden-curve-lake-first-nation/
LOCATION:Curve Lake First Nation Culltural Centre\, 1022 Mississauga Street\, Curve Lake\, Ontario\, K0M 1S0\, Canada
ATTACH;FMTTYPE=image/png:https://www.turtleguardians.com/wp-content/uploads/2018/05/Shoreline-Gardens-Logo-PLURAL-FINAL.png
END:VEVENT
BEGIN:VEVENT
DTSTART;TZID=America/Toronto:20180825T100000
DTEND;TZID=America/Toronto:20180825T120000
DTSTAMP:20260423T084353
CREATED:20180519T205438Z
LAST-MODIFIED:20180519T205438Z
UID:1038-1535191200-1535198400@www.turtleguardians.com
SUMMARY:Design Your Own Shoreline Garden- Muskoka
DESCRIPTION:Our popular workshops continue! Learn with the experts and walk away with a custom garden design for your shoreline. Choose your palet and your plants. Maintain views. Deter Geese. Increase biodiversity and filter water too! Work with the experts. Naturalize and improve your shore in one morning session. We will broker your plant order too. This year\, enter for a chance to win $200 in plants. Snacks and coffee included. $20.00. Please register at www.shorelinegardens.ca \n 
URL:https://www.turtleguardians.com/event/design-your-own-shoreline-garden-muskoka/
LOCATION:Hunstville Public Library\, Hunstville
ATTACH;FMTTYPE=image/png:https://www.turtleguardians.com/wp-content/uploads/2018/05/Shoreline-Gardens-Logo-PLURAL-FINAL.png
END:VEVENT
BEGIN:VEVENT
DTSTART;TZID=America/Toronto:20180811T100000
DTEND;TZID=America/Toronto:20180811T120000
DTSTAMP:20260423T084353
CREATED:20180519T205247Z
LAST-MODIFIED:20180519T205247Z
UID:1034-1533981600-1533988800@www.turtleguardians.com
SUMMARY:Design Your Own Shoreline Garden- Haliburton
DESCRIPTION:Our popular workshops continue! Learn with the experts and walk away with a custom garden design for your shoreline. Choose your palet and your plants. Maintain views. Deter Geese. Increase biodiversity and filter water too! Work with the experts. Naturalize and improve your shore in one morning session. We will broker your plant order too. This year\, enter for a chance to win $200 in plants. Snacks and coffee included. $20.00. Please register at www.shorelinegardens.ca \n 
URL:https://www.turtleguardians.com/event/design-your-own-shoreline-garden-haliburton/
LOCATION:The TG Headquarters. The portable building nest to the Haliburton Highlands Outdoors Association and Hatchery\, 6712 Gelert Road\, Haliburton\, Ontario\, K0M 1s0\, Canada
ATTACH;FMTTYPE=image/png:https://www.turtleguardians.com/wp-content/uploads/2018/05/Shoreline-Gardens-Logo-PLURAL-FINAL.png
ORGANIZER;CN="The Land Between and Watersheds Canada":MAILTO:info@thelandbetween.ca
END:VEVENT
BEGIN:VEVENT
DTSTART;TZID=America/Toronto:20180721T100000
DTEND;TZID=America/Toronto:20180721T123000
DTSTAMP:20260423T084353
CREATED:20180717T221458Z
LAST-MODIFIED:20180717T221458Z
UID:1098-1532167200-1532176200@www.turtleguardians.com
SUMMARY:Turtle On to Maynooth
DESCRIPTION:
URL:https://www.turtleguardians.com/event/turtle-on-to-maynooth/
END:VEVENT
BEGIN:VEVENT
DTSTART;TZID=America/Toronto:20180707T120000
DTEND;TZID=America/Toronto:20180707T140000
DTSTAMP:20260423T084353
CREATED:20180618T135225Z
LAST-MODIFIED:20180618T135225Z
UID:1061-1530964800-1530972000@www.turtleguardians.com
SUMMARY:Turtle Guardians Turtle Stories Presentation
DESCRIPTION:Join in at the Paudash Lake Association at the Don Thomas Memorial Rock Bass Derby – Saturday\, July 7th\, at 12 p.m for a talk about turtles. Learn about all the amazing facts that make these creatures the coolest animals on earth! and learn about how you can become a Guardian and save turtles for future generations.
URL:https://www.turtleguardians.com/event/turtle-guardians-turtle-stories-presentation/
LOCATION:Paudash Lake Marina\, 1320 McGillivray Rd\, Bancroft
ATTACH;FMTTYPE=image/jpeg:https://www.turtleguardians.com/wp-content/uploads/2017/12/smalll-tg-logo2.jpg
END:VEVENT
BEGIN:VEVENT
DTSTART;TZID=America/Toronto:20180707T090000
DTEND;TZID=America/Toronto:20180707T110000
DTSTAMP:20260423T084353
CREATED:20180618T134454Z
LAST-MODIFIED:20180618T183752Z
UID:1058-1530954000-1530961200@www.turtleguardians.com
SUMMARY:Design Your Own Shoreline Garden
DESCRIPTION:Take home a custom design for your shoreline; choose your pallet and your aesthetic (English Garden; Japanese; or even wild). Learn how to deter nuisance geese\, screen neighbours\, while you attract butterflies\, pollinators\, and help your lake thrive. \nThis workshop is for Hastings shoreline residents from 9am to 11 at the Bancroft Public Library
URL:https://www.turtleguardians.com/event/design-your-own-shoreline-garden/
LOCATION:Hastings HIghlands Public Library\, 33011 Hwy 62\, Maynooth\, Ontario
ATTACH;FMTTYPE=image/png:https://www.turtleguardians.com/wp-content/uploads/2018/05/Shoreline-Gardens-Logo-PLURAL-FINAL.png
END:VEVENT
BEGIN:VEVENT
DTSTART;TZID=America/Toronto:20180623T080000
DTEND;TZID=America/Toronto:20180623T140000
DTSTAMP:20260423T084353
CREATED:20180618T195354Z
LAST-MODIFIED:20180618T195354Z
UID:1083-1529740800-1529762400@www.turtleguardians.com
SUMMARY:Blue Lakes Presentation for North Kawartha Lakes
DESCRIPTION:The ‘Spring Meeting’ for NORKLA (North Kawartha Lakes Association) welcomes Leora Berman\, COO of The Land Between charity and Turtle Guardians\, to introduce the Blue Lakes Program to Cottage Country. Why is the Land Between bioregion so important for our collective future? How are the lakes of Cottage Country contributing to our collective health? How can we maintain these ecosystems in good shape for future generations? \nCome out to the North Kawartha Community Centre in Apsley.  Registration/Meet & Greet at 8:30 a.m.
URL:https://www.turtleguardians.com/event/blue-lakes-presentation-for-north-kawartha-lakes/
LOCATION:North Kawartha Community Centre\, Apsley
ATTACH;FMTTYPE=image/jpeg:https://www.turtleguardians.com/wp-content/uploads/2018/06/IMG_1039-e1529351627966.jpg
END:VEVENT
BEGIN:VEVENT
DTSTART;TZID=America/Toronto:20180621T110000
DTEND;TZID=America/Toronto:20180621T170000
DTSTAMP:20260423T084353
CREATED:20180519T205750Z
LAST-MODIFIED:20180519T205750Z
UID:1043-1529578800-1529600400@www.turtleguardians.com
SUMMARY:Aboriginal Day
DESCRIPTION:Celebrate Aboriginal Day at Curve Lake First Nation \nBooths\, celebrations\, crafts and more.
URL:https://www.turtleguardians.com/event/aboriginal-day/
LOCATION:Curve Lake First Nation Culltural Centre\, 1022 Mississauga Street\, Curve Lake\, Ontario\, K0M 1S0\, Canada
END:VEVENT
BEGIN:VEVENT
DTSTART;TZID=America/Toronto:20180621T100000
DTEND;TZID=America/Toronto:20180621T140000
DTSTAMP:20260423T084353
CREATED:20180618T200819Z
LAST-MODIFIED:20180618T200819Z
UID:1086-1529575200-1529589600@www.turtleguardians.com
SUMMARY:North Pigeon Lake AGM
DESCRIPTION:Join in at the North Pigeon Lake AGM. Lots of interesting topics…and a free BBQ for all.
URL:https://www.turtleguardians.com/event/north-pigeon-lake-agm/
END:VEVENT
BEGIN:VEVENT
DTSTART;TZID=America/Toronto:20180616T170000
DTEND;TZID=America/Toronto:20180616T183000
DTSTAMP:20260423T084353
CREATED:20180519T204415Z
LAST-MODIFIED:20180519T204415Z
UID:1026-1529168400-1529173800@www.turtleguardians.com
SUMMARY:A TLB Presentation to the Metis Nation
DESCRIPTION:
URL:https://www.turtleguardians.com/event/a-tlb-presentation-to-the-metis-nation/
END:VEVENT
BEGIN:VEVENT
DTSTART;TZID=America/Toronto:20180616T090000
DTEND;TZID=America/Toronto:20180616T120000
DTSTAMP:20260423T084353
CREATED:20180519T204152Z
LAST-MODIFIED:20180519T204152Z
UID:1022-1529139600-1529150400@www.turtleguardians.com
SUMMARY:Design Your Own Shoreline Garden- Bobcaygeon
DESCRIPTION:Our popular workshops continue! Learn with the experts and walk away with a custom garden design for your shoreline. Choose your palet and your plants. Maintain views. Deter Geese. Increase biodiversity and filter water too! Work with the experts. Naturalize and improve your shore in one morning session. We will broker your plant order too. This year\, enter for a chance to win $200 in plants. Snacks and coffee included. $20.00. Please register at www.shorelinegardens.ca \n 
URL:https://www.turtleguardians.com/event/design-your-own-shoreline-garden-bobcaygeon/
LOCATION:Bobcaygeon Community Centre\, Above the arena at the farmers market
ATTACH;FMTTYPE=image/png:https://www.turtleguardians.com/wp-content/uploads/2018/05/Shoreline-Gardens-Logo-PLURAL-FINAL.png
END:VEVENT
BEGIN:VEVENT
DTSTART;TZID=America/Toronto:20180609T100000
DTEND;TZID=America/Toronto:20180609T120000
DTSTAMP:20260423T084353
CREATED:20180519T203532Z
LAST-MODIFIED:20180519T204301Z
UID:1017-1528538400-1528545600@www.turtleguardians.com
SUMMARY:Design Your Own Shoreline Garden with TLB- Buckhorn
DESCRIPTION:Our popular workshops continue! Learn with the experts and walk away with a custom garden design for your shoreline. Choose your palet and your plants. Maintain views. Deter Geese. Increase biodiversity and filter water too! Work with the experts. Naturalize and improve your shore in one morning session. We will broker your plant order too. This year\, enter for a chance to win $200 in plants. Snacks and coffee included. $20.00. Please register at www.shorelinegardens.ca \n 
URL:https://www.turtleguardians.com/event/design-your-own-shoreline-garden-with-tlb/
LOCATION:Buckhorn Community Centre\, Buckhorn
ATTACH;FMTTYPE=image/png:https://www.turtleguardians.com/wp-content/uploads/2018/05/Shoreline-Gardens-Logo-PLURAL-FINAL.png
END:VEVENT
BEGIN:VEVENT
DTSTART;TZID=America/Toronto:20180606T173000
DTEND;TZID=America/Toronto:20180606T193000
DTSTAMP:20260423T084353
CREATED:20180519T203028Z
LAST-MODIFIED:20180519T203028Z
UID:1014-1528306200-1528313400@www.turtleguardians.com
SUMMARY:Lindsay Progress Club Presentation
DESCRIPTION:Join Leora Berman as she shares why The Land Between is a land of hope for all of Ontario during Climate Change. Hosted by the men’s progress club of Lindsay.
URL:https://www.turtleguardians.com/event/lindsay-progress-club-presentation/
LOCATION:Olympia Restaurant\, Lindsay
END:VEVENT
BEGIN:VEVENT
DTSTART;TZID=America/Toronto:20180602T100000
DTEND;TZID=America/Toronto:20180602T120000
DTSTAMP:20260423T084353
CREATED:20180515T014642Z
LAST-MODIFIED:20180515T014642Z
UID:997-1527933600-1527940800@www.turtleguardians.com
SUMMARY:Turtle Walk - Bracebridge
DESCRIPTION:Start/Registration at Kelson Grove Park
URL:https://www.turtleguardians.com/event/turtle-walk-bracebridge/
LOCATION:Kelson Grove Park\, Bracebridge\, Ontario\, Canada
END:VEVENT
BEGIN:VEVENT
DTSTART;TZID=America/Toronto:20180602T100000
DTEND;TZID=America/Toronto:20180602T120000
DTSTAMP:20260423T084353
CREATED:20180515T014524Z
LAST-MODIFIED:20180515T014524Z
UID:994-1527933600-1527940800@www.turtleguardians.com
SUMMARY:Turtle Walk - Haliburton
DESCRIPTION:Start/Registration at Haliburton Highschool Football Field/Track
URL:https://www.turtleguardians.com/event/turtle-walk-haliburton/
LOCATION:Haliburton Highlands Secondary School\, Haliburton\, Ontario\, Canada
END:VEVENT
BEGIN:VEVENT
DTSTART;TZID=America/Toronto:20180530T100000
DTEND;TZID=America/Toronto:20180530T160000
DTSTAMP:20260423T084353
CREATED:20180519T202650Z
LAST-MODIFIED:20180519T202828Z
UID:1010-1527674400-1527696000@www.turtleguardians.com
SUMMARY:EcoSummit. Turtle Guardian Presentation
DESCRIPTION:Hosted by the Trillium Lakelands District School Board\, join Leora Berman as she presents the ins and outs of the Turtle Guardian program\, and showcases why The Land Between is turtle country. Learn to identify turtles in Ontario too.
URL:https://www.turtleguardians.com/event/tldsb-ecosummit_turtle-guardian-presentation/
LOCATION:Ken Reid Conservation Area\, Lindsay
END:VEVENT
BEGIN:VEVENT
DTSTART;TZID=America/Toronto:20180526T100000
DTEND;TZID=America/Toronto:20180526T120000
DTSTAMP:20260423T084353
CREATED:20180515T014203Z
LAST-MODIFIED:20180515T014320Z
UID:991-1527328800-1527336000@www.turtleguardians.com
SUMMARY:Turtle Walk - Fenelon Falls
DESCRIPTION:Start/Registration Desk at the Trent Severn Lock 34 off Water Street across from Subway
URL:https://www.turtleguardians.com/event/turtle-walk-fenelon-falls/
LOCATION:Trent Severn Lock 34\, Water Street\, Fenelon Falls\, Ontario\, Canada
END:VEVENT
BEGIN:VEVENT
DTSTART;TZID=America/Toronto:20180526T100000
DTEND;TZID=America/Toronto:20180526T120000
DTSTAMP:20260423T084353
CREATED:20180515T013944Z
LAST-MODIFIED:20180515T014348Z
UID:988-1527328800-1527336000@www.turtleguardians.com
SUMMARY:Turtle Walk - Peterborough
DESCRIPTION:Start/Registration Desk at Peterborough//Riverview Park and Zoo parking area
URL:https://www.turtleguardians.com/event/turtle-walk-peterborough/
LOCATION:Riverview Park\, Peterborough\, Ontario\, Canada
END:VEVENT
BEGIN:VEVENT
DTSTART;TZID=America/Toronto:20180526T100000
DTEND;TZID=America/Toronto:20180526T120000
DTSTAMP:20260423T084353
CREATED:20180515T013303Z
LAST-MODIFIED:20180515T014229Z
UID:985-1527328800-1527336000@www.turtleguardians.com
SUMMARY:Turtle Walk - Bancroft
DESCRIPTION:Start/Registration Desk at Riverside Park/Post Office off Station Street.
URL:https://www.turtleguardians.com/event/turtle-walk-bancroft/
LOCATION:Riverside Park\, Station Street\, Bancroft\, Ontario\, Canada
END:VEVENT
BEGIN:VEVENT
DTSTART;TZID=America/Toronto:20180523T190000
DTEND;TZID=America/Toronto:20180523T210000
DTSTAMP:20260423T084353
CREATED:20180519T202319Z
LAST-MODIFIED:20180519T202319Z
UID:1006-1527102000-1527109200@www.turtleguardians.com
SUMMARY:A Land of Hope. Presentation by Leora Berman
DESCRIPTION:Join the Peterborough Horticultural Society for a presentation by Cofounder and COO of The Land Between charity. Find out why this region is a land of hope during Climate Change in Ontario; and what we need to do to ensure a good future for our kids here too.
URL:https://www.turtleguardians.com/event/a-land-of-hope-presentation-by-leora-berman/
LOCATION:Peterborough Lions Community Centre\, 347 Burnham Street\, Peterborough\, Ontario\, Canada
END:VEVENT
BEGIN:VEVENT
DTSTART;TZID=America/Toronto:20180523T170000
DTEND;TZID=America/Toronto:20180523T183000
DTSTAMP:20260423T084353
CREATED:20180519T201701Z
LAST-MODIFIED:20190522T220330Z
UID:1002-1527094800-1527100200@www.turtleguardians.com
SUMMARY:CANCELLED. World Turtle Day- Festival at Curve Lake
DESCRIPTION:We are open but not having an open house today. \n  \nJoin turtle folks and groups at the first turtle festival at Curve Lake- on world Turtle Day! Presentations from turtle groups of The Land Between\,\, the Ontario Turtle Conservation Centre\, and Otonobee region. Learn about Aanishihaabeg turtle teachings\, biology and how you can help.
URL:https://www.turtleguardians.com/event/world-turtle-day-festival-at-curve-lake/
LOCATION:Curve Lake First Nation Culltural Centre\, 1022 Mississauga Street\, Curve Lake\, Ontario\, K0M 1S0\, Canada
ORGANIZER;CN="Otonabee Region Conservation Authority":MAILTO:info@thelandbetween.ca
END:VEVENT
BEGIN:VEVENT
DTSTART;TZID=America/Toronto:20180519T100000
DTEND;TZID=America/Toronto:20180519T170000
DTSTAMP:20260423T084353
CREATED:20180519T204711Z
LAST-MODIFIED:20180519T204711Z
UID:1029-1526724000-1526749200@www.turtleguardians.com
SUMMARY:North Kawartha Lakes Association. Keynote Presentation by Leora Berman
DESCRIPTION:Why we need to hope and why we need to act now. Learn about the significance of The Land Between region to all of Ontario. Discover the ins and outs of the Blue Lakes Program of TLB.
URL:https://www.turtleguardians.com/event/north-kawartha-lakes-association-keynote-presentation-by-leora-berman/
LOCATION:North Kawartha Community Centre\, Apsley
END:VEVENT
END:VCALENDAR