BEGIN:VCALENDAR
VERSION:2.0
PRODID:-//Turtle Guardians - ECPv6.15.20//NONSGML v1.0//EN
CALSCALE:GREGORIAN
METHOD:PUBLISH
X-ORIGINAL-URL:https://www.turtleguardians.com
X-WR-CALDESC:Events for Turtle Guardians
REFRESH-INTERVAL;VALUE=DURATION:PT1H
X-Robots-Tag:noindex
X-PUBLISHED-TTL:PT1H
BEGIN:VTIMEZONE
TZID:America/Toronto
BEGIN:DAYLIGHT
TZOFFSETFROM:-0500
TZOFFSETTO:-0400
TZNAME:EDT
DTSTART:20200308T070000
END:DAYLIGHT
BEGIN:STANDARD
TZOFFSETFROM:-0400
TZOFFSETTO:-0500
TZNAME:EST
DTSTART:20201101T060000
END:STANDARD
BEGIN:DAYLIGHT
TZOFFSETFROM:-0500
TZOFFSETTO:-0400
TZNAME:EDT
DTSTART:20210314T070000
END:DAYLIGHT
BEGIN:STANDARD
TZOFFSETFROM:-0400
TZOFFSETTO:-0500
TZNAME:EST
DTSTART:20211107T060000
END:STANDARD
BEGIN:DAYLIGHT
TZOFFSETFROM:-0500
TZOFFSETTO:-0400
TZNAME:EDT
DTSTART:20220313T070000
END:DAYLIGHT
BEGIN:STANDARD
TZOFFSETFROM:-0400
TZOFFSETTO:-0500
TZNAME:EST
DTSTART:20221106T060000
END:STANDARD
BEGIN:DAYLIGHT
TZOFFSETFROM:-0500
TZOFFSETTO:-0400
TZNAME:EDT
DTSTART:20230312T070000
END:DAYLIGHT
BEGIN:STANDARD
TZOFFSETFROM:-0400
TZOFFSETTO:-0500
TZNAME:EST
DTSTART:20231105T060000
END:STANDARD
BEGIN:DAYLIGHT
TZOFFSETFROM:-0500
TZOFFSETTO:-0400
TZNAME:EDT
DTSTART:20240310T070000
END:DAYLIGHT
BEGIN:STANDARD
TZOFFSETFROM:-0400
TZOFFSETTO:-0500
TZNAME:EST
DTSTART:20241103T060000
END:STANDARD
END:VTIMEZONE
BEGIN:VEVENT
DTSTART;TZID=America/Toronto:20230511T173000
DTEND;TZID=America/Toronto:20230511T183000
DTSTAMP:20260422T113321
CREATED:20230418T155308Z
LAST-MODIFIED:20230418T155607Z
UID:8483-1683826200-1683829800@www.turtleguardians.com
SUMMARY:Snapper Handler Workshop
DESCRIPTION:Learn how to safely pick up and help a snapping turtle. Learn about their biology and behaviour. Earn your “Snapper Handler” Badge. By Donation.
URL:https://www.turtleguardians.com/event/snapper-handler-workshop/
LOCATION:The TG Headquarters. The portable building nest to the Haliburton Highlands Outdoors Association and Hatchery\, 6712 Gelert Road\, Haliburton\, Ontario\, K0M 1s0\, Canada
ATTACH;FMTTYPE=image/png:https://www.turtleguardians.com/wp-content/uploads/2023/04/1.png
END:VEVENT
BEGIN:VEVENT
DTSTART;TZID=America/Toronto:20230504T173000
DTEND;TZID=America/Toronto:20230504T183000
DTSTAMP:20260422T113321
CREATED:20230418T154812Z
LAST-MODIFIED:20230418T155127Z
UID:8480-1683221400-1683225000@www.turtleguardians.com
SUMMARY:Snapping Turtle Handling Workshop
DESCRIPTION:Learn how to safely pick up and help a snapping turtle. Learn about their biology and behaviour. Earn your “Snapper Handler” Badge. By Donation.
URL:https://www.turtleguardians.com/event/snapping-turtle-handling-workshop/
LOCATION:The TG Headquarters. The portable building nest to the Haliburton Highlands Outdoors Association and Hatchery\, 6712 Gelert Road\, Haliburton\, Ontario\, K0M 1s0\, Canada
ATTACH;FMTTYPE=image/png:https://www.turtleguardians.com/wp-content/uploads/2023/04/1.png
END:VEVENT
BEGIN:VEVENT
DTSTART;TZID=America/Toronto:20230415T180000
DTEND;TZID=America/Toronto:20230415T200000
DTSTAMP:20260422T113321
CREATED:20230328T161142Z
LAST-MODIFIED:20230329T154602Z
UID:8291-1681581600-1681588800@www.turtleguardians.com
SUMMARY:Turtle Trivia 2023
DESCRIPTION:Join us for fun\, food\, turtles\, and prizes! April 15th\, 6-8pm. \n$10/each person or $25.00 for a team of 4. Register and pay below and early to be entered into a draw for a chance to win a turtley cool door prize! (you can pay at the door too!)
URL:https://www.turtleguardians.com/event/turtle-trivia-2023/
LOCATION:Ontario
ATTACH;FMTTYPE=image/png:https://www.turtleguardians.com/wp-content/uploads/2023/03/Untitled-design-18.png
END:VEVENT
BEGIN:VEVENT
DTSTART;TZID=America/Toronto:20221210T100000
DTEND;TZID=America/Toronto:20221210T160000
DTSTAMP:20260422T113322
CREATED:20221129T213023Z
LAST-MODIFIED:20221129T213023Z
UID:7654-1670666400-1670688000@www.turtleguardians.com
SUMMARY:TG's Holiday Open House
DESCRIPTION:Come out to our HQ to meet our teaching turtles and snakes\, pick up some awesome turtle-inspired holiday gifts for the special people in your life\, and consider supporting turtle conservation by purchasing our holiday-exclusive symbolic turtle adoption kits! We will also be offering tours by donation. \nAttendance is free! Registration is not required\, but is appreciated so we can gauge numbers! \n\n\n                \n                        \n                            Holiday Open House Registration\n                             \n                        \n                        Name(Required)\n                            \n                            \n                                                    \n                                                    First\n                                                \n                            \n                            \n                                                    \n                                                    Last\n                                                \n                            \n                        Please indicate the number of guests\, if any\, you plan to bring with you!(Required)Just me!+1+2+3+4+5More than 5Which dates are you planning on attending?(Required)\n								\n								Friday\, December 9th (12-6pm)\n							\n								\n								Saturday\, December 10th (10am-4pm)\n							Email\n                            \n                        We'll only use this to contact you about the event!Receive our newsletter\, Snapshots I want to be in the know!Every month\, we send out a monthly newsletter with turtle conservation news\, TG updates\, upcoming events\, and more! Let us know if you'd like to receive the newsletter by opting in via this checkbox. We always respect your privacy\, won't spam you\, and you can unsubscribe anytime!
URL:https://www.turtleguardians.com/event/tgs-holiday-open-house/
LOCATION:Turtle Guardian Headquarters at the HHOA Hatchery portable\, 6712 Gelert Road\, Haliburton\, Ontario\, K0M 1s0\, Canada
ATTACH;FMTTYPE=image/png:https://www.turtleguardians.com/wp-content/uploads/2022/11/Screenshot-2022-11-29-at-3.22.59-PM.png
END:VEVENT
BEGIN:VEVENT
DTSTART;TZID=America/Toronto:20221209T120000
DTEND;TZID=America/Toronto:20221209T180000
DTSTAMP:20260422T113322
CREATED:20221129T212529Z
LAST-MODIFIED:20221129T213131Z
UID:7650-1670587200-1670608800@www.turtleguardians.com
SUMMARY:TG's Holiday Open House
DESCRIPTION:Come out to our HQ to meet our teaching turtles and snakes\, pick up some awesome turtle-inspired holiday gifts for the special people in your life\, and consider supporting turtle conservation by purchasing our holiday-exclusive symbolic turtle adoption kits! We will also be offering tours by donation. \nAttendance is free! Registration is not required\, but is appreciated so we can gauge numbers! \n\n                \n                        \n                            Holiday Open House Registration\n                             \n                        \n                        Name(Required)\n                            \n                            \n                                                    \n                                                    First\n                                                \n                            \n                            \n                                                    \n                                                    Last\n                                                \n                            \n                        Please indicate the number of guests\, if any\, you plan to bring with you!(Required)Just me!+1+2+3+4+5More than 5Which dates are you planning on attending?(Required)\n								\n								Friday\, December 9th (12-6pm)\n							\n								\n								Saturday\, December 10th (10am-4pm)\n							Email\n                            \n                        We'll only use this to contact you about the event!Receive our newsletter\, Snapshots I want to be in the know!Every month\, we send out a monthly newsletter with turtle conservation news\, TG updates\, upcoming events\, and more! Let us know if you'd like to receive the newsletter by opting in via this checkbox. We always respect your privacy\, won't spam you\, and you can unsubscribe anytime!
URL:https://www.turtleguardians.com/event/tg-holiday-open-house/
LOCATION:Turtle Guardian Headquarters at the HHOA Hatchery portable\, 6712 Gelert Road\, Haliburton\, Ontario\, K0M 1s0\, Canada
ATTACH;FMTTYPE=image/png:https://www.turtleguardians.com/wp-content/uploads/2022/11/Screenshot-2022-11-29-at-3.22.59-PM.png
END:VEVENT
BEGIN:VEVENT
DTSTART;TZID=America/Toronto:20221029T100000
DTEND;TZID=America/Toronto:20221029T120000
DTSTAMP:20260422T113322
CREATED:20221012T004106Z
LAST-MODIFIED:20221021T174527Z
UID:7564-1667037600-1667044800@www.turtleguardians.com
SUMMARY:Kids Turtley Spooktacular
DESCRIPTION:Register for a fun filled spooky shellebration here
URL:https://www.turtleguardians.com/event/kids-turtley-spooktacular/
LOCATION:Ontario
ATTACH;FMTTYPE=image/png:https://www.turtleguardians.com/wp-content/uploads/2022/10/1.png
END:VEVENT
BEGIN:VEVENT
DTSTART;TZID=America/Toronto:20220924T110000
DTEND;TZID=America/Toronto:20220924T123000
DTSTAMP:20260422T113322
CREATED:20220810T154346Z
LAST-MODIFIED:20220905T153412Z
UID:7268-1664017200-1664022600@www.turtleguardians.com
SUMMARY:Saving Grace Walk and TLB AGM
DESCRIPTION:Join in at the Haliburton High School Sports Field at 11am on Saturday Sept 24th. All allies welcome. Then  stay for  a Talking  Circle and  to  receive  gifts  from  LUSH
URL:https://www.turtleguardians.com/event/saving-grace-walk-and-tlb-agm/
LOCATION:Ontario
ATTACH;FMTTYPE=image/png:https://www.turtleguardians.com/wp-content/uploads/2022/09/Saving-Grace-Walk-and-Prayer-Ceremony-15.png
END:VEVENT
BEGIN:VEVENT
DTSTART;TZID=America/Toronto:20220901T080000
DTEND;TZID=America/Toronto:20220902T170000
DTSTAMP:20260422T113322
CREATED:20220810T155915Z
LAST-MODIFIED:20220810T155915Z
UID:7274-1662019200-1662138000@www.turtleguardians.com
SUMMARY:Tiny Totts Turtle Time
DESCRIPTION:To register for either day\, click here
URL:https://www.turtleguardians.com/event/tiny-totts-turtle-time-3/
LOCATION:Ontario
END:VEVENT
BEGIN:VEVENT
DTSTART;TZID=America/Toronto:20220831T120000
DTEND;TZID=America/Toronto:20220831T140000
DTSTAMP:20260422T113322
CREATED:20220810T164642Z
LAST-MODIFIED:20220810T164642Z
UID:7294-1661947200-1661954400@www.turtleguardians.com
SUMMARY:Stories in the Park - with Turtles!
DESCRIPTION:Hosted by the Lion’s Club\, meet the turtles in Head Lake Park in Haliburton
URL:https://www.turtleguardians.com/event/stories-in-the-park-with-turtles/
LOCATION:Ontario
END:VEVENT
BEGIN:VEVENT
DTSTART;TZID=America/Toronto:20220825T090000
DTEND;TZID=America/Toronto:20220826T140000
DTSTAMP:20260422T113322
CREATED:20220703T181004Z
LAST-MODIFIED:20220703T181004Z
UID:7034-1661418000-1661522400@www.turtleguardians.com
SUMMARY:Level 2 Turtle Camp
DESCRIPTION:2 Day in person Level 2 camp! \nLearn about wetlands\, and how to spot turtles in their native habitats. Learn about nesting turtles and how to keep nests safe. Earn your Level 2 ID Card. \nReserved for ages 9-15 \n\n 
URL:https://www.turtleguardians.com/event/level-2-turtle-camp/
LOCATION:Ontario
ATTACH;FMTTYPE=image/png:https://www.turtleguardians.com/wp-content/uploads/2022/06/Turtle-Camp-Level-2-1.png
END:VEVENT
BEGIN:VEVENT
DTSTART;TZID=America/Toronto:20220824T100000
DTEND;TZID=America/Toronto:20220824T123000
DTSTAMP:20260422T113322
CREATED:20220810T162110Z
LAST-MODIFIED:20220810T162110Z
UID:7282-1661335200-1661344200@www.turtleguardians.com
SUMMARY:Turtles at the Library- North Kawartha
DESCRIPTION:
URL:https://www.turtleguardians.com/event/turtles-at-the-library-north-kawartha/
LOCATION:Ontario
END:VEVENT
BEGIN:VEVENT
DTSTART;TZID=America/Toronto:20220823T110000
DTEND;TZID=America/Toronto:20220823T130000
DTSTAMP:20260422T113322
CREATED:20220810T164427Z
LAST-MODIFIED:20220811T174236Z
UID:7291-1661252400-1661259600@www.turtleguardians.com
SUMMARY:Turtles at the Library- Kinmount
DESCRIPTION:
URL:https://www.turtleguardians.com/event/turtles-at-the-library-kinmount/
LOCATION:Ontario
ATTACH;FMTTYPE=image/png:https://www.turtleguardians.com/wp-content/uploads/2022/08/Turtles-at-the-Library-5.png
END:VEVENT
BEGIN:VEVENT
DTSTART;TZID=America/Toronto:20220821T120000
DTEND;TZID=America/Toronto:20220821T150000
DTSTAMP:20260422T113322
CREATED:20220810T154951Z
LAST-MODIFIED:20220811T174357Z
UID:7271-1661083200-1661094000@www.turtleguardians.com
SUMMARY:Volunteer Appreciation BBQ
DESCRIPTION:Thank you to our amazing and invaluable team of volunteers. You  make the work easier\, lighter and meaningful. We would like to invite you to an appreciation BBQ on August 21st at the TG/TLB HQ at 6712 Gelert Road in Haliburton.  No need to RSVP\, just bring yourself\, your family and a guest and meet the tiny turtle hatchlings and our Teaching Turtle team too! \n 
URL:https://www.turtleguardians.com/event/volunteer-appreciation-bbq/
LOCATION:Ontario
ATTACH;FMTTYPE=image/png:https://www.turtleguardians.com/wp-content/uploads/2022/08/Blue-Travel-Summer-in-Greece-Facebook-Post.png
END:VEVENT
BEGIN:VEVENT
DTSTART;TZID=America/Toronto:20220818T130000
DTEND;TZID=America/Toronto:20220818T150000
DTSTAMP:20260422T113322
CREATED:20220810T162516Z
LAST-MODIFIED:20220811T161903Z
UID:7285-1660827600-1660834800@www.turtleguardians.com
SUMMARY:Turtles at the Library- Wilberforce
DESCRIPTION:
URL:https://www.turtleguardians.com/event/turtles-at-the-library-wilberforce/
LOCATION:Ontario
END:VEVENT
BEGIN:VEVENT
DTSTART;TZID=America/Toronto:20220817T100000
DTEND;TZID=America/Toronto:20220817T170000
DTSTAMP:20260422T113322
CREATED:20220810T161632Z
LAST-MODIFIED:20220811T173955Z
UID:7279-1660730400-1660755600@www.turtleguardians.com
SUMMARY:Beers for Conservation
DESCRIPTION:
URL:https://www.turtleguardians.com/event/beers-for-conservation/
LOCATION:Ontario
ATTACH;FMTTYPE=image/jpeg:https://www.turtleguardians.com/wp-content/uploads/2022/08/beers-for-conservation.jpg
END:VEVENT
BEGIN:VEVENT
DTSTART;TZID=America/Toronto:20220816T140000
DTEND;TZID=America/Toronto:20220816T160000
DTSTAMP:20260422T113322
CREATED:20220810T162748Z
LAST-MODIFIED:20220811T162117Z
UID:7288-1660658400-1660665600@www.turtleguardians.com
SUMMARY:Turtles at the Library - Haliburton
DESCRIPTION:
URL:https://www.turtleguardians.com/event/turtles-at-the-library-haliburton/
LOCATION:Ontario
END:VEVENT
BEGIN:VEVENT
DTSTART;TZID=America/Toronto:20220810T080000
DTEND;TZID=America/Toronto:20220810T170000
DTSTAMP:20260422T113322
CREATED:20220810T160723Z
LAST-MODIFIED:20220810T160723Z
UID:7276-1660118400-1660150800@www.turtleguardians.com
SUMMARY:Turtles at the Lakefield Farmer's Market
DESCRIPTION:Join us this weekend at the Lakefield Farmer’s Market!
URL:https://www.turtleguardians.com/event/turtles-at-the-lakefield-farmers-market/
LOCATION:Ontario
END:VEVENT
BEGIN:VEVENT
DTSTART;TZID=America/Toronto:20220803T090000
DTEND;TZID=America/Toronto:20220805T150000
DTSTAMP:20260422T113322
CREATED:20220408T160041Z
LAST-MODIFIED:20220408T160615Z
UID:5531-1659517200-1659711600@www.turtleguardians.com
SUMMARY:Turtle Camp- Final Week
DESCRIPTION:Turtle Camp is Back! To register\, please follow this link
URL:https://www.turtleguardians.com/event/turtle-camp-final-week/
LOCATION:Ontario
ATTACH;FMTTYPE=image/jpeg:https://www.turtleguardians.com/wp-content/uploads/2022/04/tg-camp.jpg
END:VEVENT
BEGIN:VEVENT
DTSTART;TZID=America/Toronto:20220728T180000
DTEND;TZID=America/Toronto:20220728T200000
DTSTAMP:20260422T113322
CREATED:20220703T171010Z
LAST-MODIFIED:20220703T172250Z
UID:7017-1659031200-1659038400@www.turtleguardians.com
SUMMARY:Turtle Paint Night
DESCRIPTION:Bring home a gorgeous piece of art and great memories too! \nBeginners welcome. A painting template of a turtley cool vision\, and instruction will be provided\, to ensure you succeed and have fun too. \nSnacks and drinks provided. \nMeet us at the TG HQ at 6712 Gelert Street\, Haliburton. \nReserve your seats:
URL:https://www.turtleguardians.com/event/turtle-paint-night-2/
LOCATION:Ontario
ATTACH;FMTTYPE=image/png:https://www.turtleguardians.com/wp-content/uploads/2022/07/Blue-Yellow-Modern-World-Art-Day-Instagram-Post-3.png
END:VEVENT
BEGIN:VEVENT
DTSTART;TZID=America/Toronto:20220727T100000
DTEND;TZID=America/Toronto:20220727T120000
DTSTAMP:20260422T113322
CREATED:20220703T180651Z
LAST-MODIFIED:20220703T180651Z
UID:7032-1658916000-1658923200@www.turtleguardians.com
SUMMARY:Tiny Totts Turtle Time
DESCRIPTION:For parents and children under the age of 7. Help feed the turtles. Do some turtle-y cool crafts.  Hold and touch the turtles. Learn about turtle behaviour.
URL:https://www.turtleguardians.com/event/tiny-totts-turtle-time-2/
LOCATION:Ontario
END:VEVENT
BEGIN:VEVENT
DTSTART;TZID=America/Toronto:20220726T100000
DTEND;TZID=America/Toronto:20220726T120000
DTSTAMP:20260422T113322
CREATED:20220703T180242Z
LAST-MODIFIED:20220703T180242Z
UID:7023-1658829600-1658836800@www.turtleguardians.com
SUMMARY:Tiny Totts Turtle Time
DESCRIPTION:For parents and children under the age of 7. \nHelp feed the turtles. Do some turtle-y cool crafts.  Hold and touch the turtles. Learn about turtle behaviour. 
URL:https://www.turtleguardians.com/event/tiny-totts-turtle-time/
LOCATION:Ontario
ATTACH;FMTTYPE=image/png:https://www.turtleguardians.com/wp-content/uploads/2022/07/Yellow-Illustrated-Student-English-Class-Poster-4-1.png
END:VEVENT
BEGIN:VEVENT
DTSTART;TZID=America/Toronto:20220720T090000
DTEND;TZID=America/Toronto:20220722T150000
DTSTAMP:20260422T113322
CREATED:20220408T155936Z
LAST-MODIFIED:20220408T160545Z
UID:5529-1658307600-1658502000@www.turtleguardians.com
SUMMARY:Turtle Camp- Week 2
DESCRIPTION:Turtle Camp is Back! To register\, please follow this link
URL:https://www.turtleguardians.com/event/turtle-camp-week-2/
LOCATION:Ontario
ATTACH;FMTTYPE=image/jpeg:https://www.turtleguardians.com/wp-content/uploads/2022/04/tg-camp.jpg
END:VEVENT
BEGIN:VEVENT
DTSTART;TZID=America/Toronto:20220713T090000
DTEND;TZID=America/Toronto:20220715T150000
DTSTAMP:20260422T113322
CREATED:20220408T155836Z
LAST-MODIFIED:20220408T160522Z
UID:5526-1657702800-1657897200@www.turtleguardians.com
SUMMARY:Turtle Camp - Week 1
DESCRIPTION:Turtle Camp is Back! To register\, please follow this link
URL:https://www.turtleguardians.com/event/turtle-camp-week-1/
LOCATION:Ontario
ATTACH;FMTTYPE=image/jpeg:https://www.turtleguardians.com/wp-content/uploads/2022/04/tg-camp.jpg
END:VEVENT
BEGIN:VEVENT
DTSTART;TZID=America/Toronto:20220709T100000
DTEND;TZID=America/Toronto:20220709T140000
DTSTAMP:20260422T113322
CREATED:20220704T211443Z
LAST-MODIFIED:20220704T211443Z
UID:7060-1657360800-1657375200@www.turtleguardians.com
SUMMARY:Turtles at the Library
DESCRIPTION:Join us on July 9th for live turtles and teachings at the Coboconk Library!
URL:https://www.turtleguardians.com/event/turtles-at-the-library/
LOCATION:Ontario
ATTACH;FMTTYPE=image/png:https://www.turtleguardians.com/wp-content/uploads/2022/07/Turtles-at-the-Library-1.png
END:VEVENT
BEGIN:VEVENT
DTSTART;VALUE=DATE:20220705
DTEND;VALUE=DATE:20220911
DTSTAMP:20260422T113322
CREATED:20220704T213950Z
LAST-MODIFIED:20220704T214233Z
UID:7065-1656979200-1662854399@www.turtleguardians.com
SUMMARY:Tours at the TG HQ
DESCRIPTION:Join us for turtle and snake tours at our headquarters at 6712 Gelert Road\, Portable Building in Haliburton. \nOpen from 10 to 4 to the public on Tuesdays\, Fridays and Saturdays only. \nNominal Tour Fees apply. \nFirst come first served to a maximum of 4 per visit/turn.
URL:https://www.turtleguardians.com/event/tours-at-the-tg-hq/
LOCATION:The TG Headquarters. The portable building nest to the Haliburton Highlands Outdoors Association and Hatchery\, 6712 Gelert Road\, Haliburton\, Ontario\, K0M 1s0\, Canada
ATTACH;FMTTYPE=image/png:https://www.turtleguardians.com/wp-content/uploads/2022/07/2.png
END:VEVENT
BEGIN:VEVENT
DTSTART;TZID=America/Toronto:20220511T180000
DTEND;TZID=America/Toronto:20220511T210000
DTSTAMP:20260422T113322
CREATED:20220408T170315Z
LAST-MODIFIED:20220707T142431Z
UID:5534-1652292000-1652302800@www.turtleguardians.com
SUMMARY:Turtle Paint Night!
DESCRIPTION:Gather with friends to paint unique canvases of turtles\, under the guidance of local artists. Enjoy a beverage and snack\, and meet the live teaching turtles too! All funds raised helps to support turtle conservation.
URL:https://www.turtleguardians.com/event/turtle-paint-night-1/
LOCATION:Ontario
ATTACH;FMTTYPE=image/png:https://www.turtleguardians.com/wp-content/uploads/2022/04/Blue-Yellow-Modern-World-Art-Day-Instagram-Post.png
END:VEVENT
BEGIN:VEVENT
DTSTART;TZID=America/Toronto:20220422T180000
DTEND;TZID=America/Toronto:20220422T200000
DTSTAMP:20260422T113322
CREATED:20220328T223355Z
LAST-MODIFIED:20220411T194037Z
UID:5267-1650650400-1650657600@www.turtleguardians.com
SUMMARY:Turtle Trivia Night
DESCRIPTION:Join us for fun\, friends\, laughter and learning at our first annual Turtle Trivia Night!\nJoin a group or book as a team of 4. \nSnacks (gluten free pizza\, cookies and drinks)\, Door Prizes\, and Awards for the best teams. Meet our turtle friends during our live presentation. \nFamily friendly. \nCovid screening applies. \nREGISTER HERE\n 
URL:https://www.turtleguardians.com/event/turtle-trivia-night/
LOCATION:HHOA Haliburton Hatchery\, 6712 Gelert Road\, Haliburton\, Ontario\, K0M 1S0\, Canada
ATTACH;FMTTYPE=image/png:https://www.turtleguardians.com/wp-content/uploads/2022/03/TRIVIA-NIGHT-8.5-×-11-in-1.png
END:VEVENT
BEGIN:VEVENT
DTSTART;TZID=America/Toronto:20220114T130000
DTEND;TZID=America/Toronto:20220114T150000
DTSTAMP:20260422T113322
CREATED:20220104T222152Z
LAST-MODIFIED:20220104T222152Z
UID:4891-1642165200-1642172400@www.turtleguardians.com
SUMMARY:Reptiles on Roads Mitigation Workshop
DESCRIPTION:Join us for a 2 hour webinar with the Land Between and Eco-Kare International for part 2 of a 2 part webinar series about road ecology and reptiles. In Part 1 we focused on ‘maintenance and adaptive management’ of exclusion fence types with a focus on mitigation installed within and adjacent to the Georgian Bay Biosphere. We also hosted a field day to perform maintenance and discuss adaptive management of mitigation installed on Nobel Road\, Township of McDougall. \n\nIn this second session we will give an overview of wildlife mitigation for reptiles (with a focus on turtles) in Ontario\, focusing on the following aspects: \n\n1) Road threats for reptiles and why they are so severe. \n\n2) Summary of road-wildlife mitigation techniques for turtles/reptiles with a focus on underpasses\, exclusion fencing and habitat enhancements as a site-specific mitigation strategy \n\n3) Design considerations that include types of exclusion fencing (pros\, cons\, and pricing)\, types of underpasses (pros\, cons\, and pricing)\, habitat enhancements with a focus on nesting mounds near roads \n\n4) Review from part 1 webinar about maintenance and adaptive management \n\n5) Procurement and tendering process; grass-roots installations versus contractor\, how can we improve this process so it is competitive\, mainstream\, etc. \n\n6) Q&A \nTo register follow this link
URL:https://www.turtleguardians.com/event/reptiles-on-roads-mitigation-workshop/
LOCATION:Online Zoom Workshop\, Haliburton\, Ontario\, K0M1S0\, Canada
ATTACH;FMTTYPE=image/png:https://www.turtleguardians.com/wp-content/uploads/2022/01/reptiles-on-roads-mitigation.png
END:VEVENT
BEGIN:VEVENT
DTSTART;TZID=America/Toronto:20220110T100000
DTEND;TZID=America/Toronto:20220110T110000
DTSTAMP:20260422T113322
CREATED:20220104T205017Z
LAST-MODIFIED:20220104T205017Z
UID:4889-1641808800-1641812400@www.turtleguardians.com
SUMMARY:Turtles at Ten!
DESCRIPTION:WE ARE BACK- TURTLES AT 10!\nWe are bringing back our live streaming events right to your breakfast table or your classroom! Join us live\, here on Facebook. Meet our Teaching Turtles and our staffers\, Grace and Mel\, to talk about turtles.\nTurtle behaviour. Turtle biology. Turtle conservation.\nDid you know turtles roamed the earth before the dinosaurs\, that turtles are one of the few animals that sheds tears\, that turtles feel through their shells\, or that they cannot cough because they don’t have diaphragms?\nSo many cool things to explore with us.\nJoin us for this pilot show on Monday January 10th at 10am…here on Facebook!
URL:https://www.turtleguardians.com/event/turtles-at-ten/
LOCATION:Facebook\, @TurtleGuardians
ATTACH;FMTTYPE=image/png:https://www.turtleguardians.com/wp-content/uploads/2022/01/turtles-at-10-1.png
END:VEVENT
BEGIN:VEVENT
DTSTART;TZID=America/Toronto:20210903T140000
DTEND;TZID=America/Toronto:20210903T143000
DTSTAMP:20260422T113322
CREATED:20210709T213849Z
LAST-MODIFIED:20210709T215551Z
UID:4460-1630677600-1630679400@www.turtleguardians.com
SUMMARY:Turtles at Two
DESCRIPTION:Learn how to help our shelled friends. Turtles are the most interesting and mystifying animals – they navigate using earth magnetics and the sun\, know where they are going\, hibernate within 1 metre of the previous years\, live for hundreds of years\, are able to shed tears\, feel through their shells\, become male or female depending on temperatures\, and more…\nGrace and Sydney\, our Turtle Guardian staff\, will introduce you to Jeremiah\, Timothy\, Beakler\, Figgy and the gang. Watch the turtles being fed\, see Jeremiah taking tours around the office on her skateboard\, see the eggs in our incubator and maybe even watch them hatch!\n\n\nTurtles at Two will be livestreamed on Facebook each week. Join us by following us @TurtleGuardians.
URL:https://www.turtleguardians.com/event/turtles-at-two-12/
LOCATION:Ontario
ATTACH;FMTTYPE=image/jpeg:https://www.turtleguardians.com/wp-content/uploads/2021/07/TurtlesatTwoGraphicInsta-is-here-again.jpg
END:VEVENT
END:VCALENDAR