BEGIN:VCALENDAR
VERSION:2.0
PRODID:-//Turtle Guardians - ECPv6.15.20//NONSGML v1.0//EN
CALSCALE:GREGORIAN
METHOD:PUBLISH
X-ORIGINAL-URL:https://www.turtleguardians.com
X-WR-CALDESC:Events for Turtle Guardians
REFRESH-INTERVAL;VALUE=DURATION:PT1H
X-Robots-Tag:noindex
X-PUBLISHED-TTL:PT1H
BEGIN:VTIMEZONE
TZID:America/Toronto
BEGIN:DAYLIGHT
TZOFFSETFROM:-0500
TZOFFSETTO:-0400
TZNAME:EDT
DTSTART:20200308T070000
END:DAYLIGHT
BEGIN:STANDARD
TZOFFSETFROM:-0400
TZOFFSETTO:-0500
TZNAME:EST
DTSTART:20201101T060000
END:STANDARD
BEGIN:DAYLIGHT
TZOFFSETFROM:-0500
TZOFFSETTO:-0400
TZNAME:EDT
DTSTART:20210314T070000
END:DAYLIGHT
BEGIN:STANDARD
TZOFFSETFROM:-0400
TZOFFSETTO:-0500
TZNAME:EST
DTSTART:20211107T060000
END:STANDARD
BEGIN:DAYLIGHT
TZOFFSETFROM:-0500
TZOFFSETTO:-0400
TZNAME:EDT
DTSTART:20220313T070000
END:DAYLIGHT
BEGIN:STANDARD
TZOFFSETFROM:-0400
TZOFFSETTO:-0500
TZNAME:EST
DTSTART:20221106T060000
END:STANDARD
BEGIN:DAYLIGHT
TZOFFSETFROM:-0500
TZOFFSETTO:-0400
TZNAME:EDT
DTSTART:20230312T070000
END:DAYLIGHT
BEGIN:STANDARD
TZOFFSETFROM:-0400
TZOFFSETTO:-0500
TZNAME:EST
DTSTART:20231105T060000
END:STANDARD
END:VTIMEZONE
BEGIN:VEVENT
DTSTART;TZID=America/Toronto:20220726T100000
DTEND;TZID=America/Toronto:20220726T120000
DTSTAMP:20260422T143749
CREATED:20220703T180242Z
LAST-MODIFIED:20220703T180242Z
UID:7023-1658829600-1658836800@www.turtleguardians.com
SUMMARY:Tiny Totts Turtle Time
DESCRIPTION:For parents and children under the age of 7. \nHelp feed the turtles. Do some turtle-y cool crafts.  Hold and touch the turtles. Learn about turtle behaviour. 
URL:https://www.turtleguardians.com/event/tiny-totts-turtle-time/
ATTACH;FMTTYPE=image/png:https://www.turtleguardians.com/wp-content/uploads/2022/07/Yellow-Illustrated-Student-English-Class-Poster-4-1.png
END:VEVENT
BEGIN:VEVENT
DTSTART;TZID=America/Toronto:20220720T090000
DTEND;TZID=America/Toronto:20220722T150000
DTSTAMP:20260422T143749
CREATED:20220408T155936Z
LAST-MODIFIED:20220408T160545Z
UID:5529-1658307600-1658502000@www.turtleguardians.com
SUMMARY:Turtle Camp- Week 2
DESCRIPTION:Turtle Camp is Back! To register\, please follow this link
URL:https://www.turtleguardians.com/event/turtle-camp-week-2/
ATTACH;FMTTYPE=image/jpeg:https://www.turtleguardians.com/wp-content/uploads/2022/04/tg-camp.jpg
END:VEVENT
BEGIN:VEVENT
DTSTART;TZID=America/Toronto:20220713T090000
DTEND;TZID=America/Toronto:20220715T150000
DTSTAMP:20260422T143749
CREATED:20220408T155836Z
LAST-MODIFIED:20220408T160522Z
UID:5526-1657702800-1657897200@www.turtleguardians.com
SUMMARY:Turtle Camp - Week 1
DESCRIPTION:Turtle Camp is Back! To register\, please follow this link
URL:https://www.turtleguardians.com/event/turtle-camp-week-1/
ATTACH;FMTTYPE=image/jpeg:https://www.turtleguardians.com/wp-content/uploads/2022/04/tg-camp.jpg
END:VEVENT
BEGIN:VEVENT
DTSTART;TZID=America/Toronto:20220709T100000
DTEND;TZID=America/Toronto:20220709T140000
DTSTAMP:20260422T143749
CREATED:20220704T211443Z
LAST-MODIFIED:20220704T211443Z
UID:7060-1657360800-1657375200@www.turtleguardians.com
SUMMARY:Turtles at the Library
DESCRIPTION:Join us on July 9th for live turtles and teachings at the Coboconk Library!
URL:https://www.turtleguardians.com/event/turtles-at-the-library/
ATTACH;FMTTYPE=image/png:https://www.turtleguardians.com/wp-content/uploads/2022/07/Turtles-at-the-Library-1.png
END:VEVENT
BEGIN:VEVENT
DTSTART;VALUE=DATE:20220705
DTEND;VALUE=DATE:20220911
DTSTAMP:20260422T143749
CREATED:20220704T213950Z
LAST-MODIFIED:20220704T214233Z
UID:7065-1656979200-1662854399@www.turtleguardians.com
SUMMARY:Tours at the TG HQ
DESCRIPTION:Join us for turtle and snake tours at our headquarters at 6712 Gelert Road\, Portable Building in Haliburton. \nOpen from 10 to 4 to the public on Tuesdays\, Fridays and Saturdays only. \nNominal Tour Fees apply. \nFirst come first served to a maximum of 4 per visit/turn.
URL:https://www.turtleguardians.com/event/tours-at-the-tg-hq/
LOCATION:The TG Headquarters. The portable building nest to the Haliburton Highlands Outdoors Association and Hatchery\, 6712 Gelert Road\, Haliburton\, Ontario\, K0M 1s0\, Canada
ATTACH;FMTTYPE=image/png:https://www.turtleguardians.com/wp-content/uploads/2022/07/2.png
END:VEVENT
BEGIN:VEVENT
DTSTART;TZID=America/Toronto:20220511T180000
DTEND;TZID=America/Toronto:20220511T210000
DTSTAMP:20260422T143749
CREATED:20220408T170315Z
LAST-MODIFIED:20220707T142431Z
UID:5534-1652292000-1652302800@www.turtleguardians.com
SUMMARY:Turtle Paint Night!
DESCRIPTION:Gather with friends to paint unique canvases of turtles\, under the guidance of local artists. Enjoy a beverage and snack\, and meet the live teaching turtles too! All funds raised helps to support turtle conservation.
URL:https://www.turtleguardians.com/event/turtle-paint-night-1/
ATTACH;FMTTYPE=image/png:https://www.turtleguardians.com/wp-content/uploads/2022/04/Blue-Yellow-Modern-World-Art-Day-Instagram-Post.png
END:VEVENT
BEGIN:VEVENT
DTSTART;TZID=America/Toronto:20220422T180000
DTEND;TZID=America/Toronto:20220422T200000
DTSTAMP:20260422T143749
CREATED:20220328T223355Z
LAST-MODIFIED:20220411T194037Z
UID:5267-1650650400-1650657600@www.turtleguardians.com
SUMMARY:Turtle Trivia Night
DESCRIPTION:Join us for fun\, friends\, laughter and learning at our first annual Turtle Trivia Night!\nJoin a group or book as a team of 4. \nSnacks (gluten free pizza\, cookies and drinks)\, Door Prizes\, and Awards for the best teams. Meet our turtle friends during our live presentation. \nFamily friendly. \nCovid screening applies. \nREGISTER HERE\n 
URL:https://www.turtleguardians.com/event/turtle-trivia-night/
LOCATION:HHOA Haliburton Hatchery\, 6712 Gelert Road\, Haliburton\, Ontario\, K0M 1S0\, Canada
ATTACH;FMTTYPE=image/png:https://www.turtleguardians.com/wp-content/uploads/2022/03/TRIVIA-NIGHT-8.5-×-11-in-1.png
END:VEVENT
BEGIN:VEVENT
DTSTART;TZID=America/Toronto:20220114T130000
DTEND;TZID=America/Toronto:20220114T150000
DTSTAMP:20260422T143749
CREATED:20220104T222152Z
LAST-MODIFIED:20220104T222152Z
UID:4891-1642165200-1642172400@www.turtleguardians.com
SUMMARY:Reptiles on Roads Mitigation Workshop
DESCRIPTION:Join us for a 2 hour webinar with the Land Between and Eco-Kare International for part 2 of a 2 part webinar series about road ecology and reptiles. In Part 1 we focused on ‘maintenance and adaptive management’ of exclusion fence types with a focus on mitigation installed within and adjacent to the Georgian Bay Biosphere. We also hosted a field day to perform maintenance and discuss adaptive management of mitigation installed on Nobel Road\, Township of McDougall. \n\nIn this second session we will give an overview of wildlife mitigation for reptiles (with a focus on turtles) in Ontario\, focusing on the following aspects: \n\n1) Road threats for reptiles and why they are so severe. \n\n2) Summary of road-wildlife mitigation techniques for turtles/reptiles with a focus on underpasses\, exclusion fencing and habitat enhancements as a site-specific mitigation strategy \n\n3) Design considerations that include types of exclusion fencing (pros\, cons\, and pricing)\, types of underpasses (pros\, cons\, and pricing)\, habitat enhancements with a focus on nesting mounds near roads \n\n4) Review from part 1 webinar about maintenance and adaptive management \n\n5) Procurement and tendering process; grass-roots installations versus contractor\, how can we improve this process so it is competitive\, mainstream\, etc. \n\n6) Q&A \nTo register follow this link
URL:https://www.turtleguardians.com/event/reptiles-on-roads-mitigation-workshop/
LOCATION:Online Zoom Workshop\, Haliburton\, Ontario\, K0M1S0\, Canada
ATTACH;FMTTYPE=image/png:https://www.turtleguardians.com/wp-content/uploads/2022/01/reptiles-on-roads-mitigation.png
END:VEVENT
BEGIN:VEVENT
DTSTART;TZID=America/Toronto:20220110T100000
DTEND;TZID=America/Toronto:20220110T110000
DTSTAMP:20260422T143749
CREATED:20220104T205017Z
LAST-MODIFIED:20220104T205017Z
UID:4889-1641808800-1641812400@www.turtleguardians.com
SUMMARY:Turtles at Ten!
DESCRIPTION:WE ARE BACK- TURTLES AT 10!\nWe are bringing back our live streaming events right to your breakfast table or your classroom! Join us live\, here on Facebook. Meet our Teaching Turtles and our staffers\, Grace and Mel\, to talk about turtles.\nTurtle behaviour. Turtle biology. Turtle conservation.\nDid you know turtles roamed the earth before the dinosaurs\, that turtles are one of the few animals that sheds tears\, that turtles feel through their shells\, or that they cannot cough because they don’t have diaphragms?\nSo many cool things to explore with us.\nJoin us for this pilot show on Monday January 10th at 10am…here on Facebook!
URL:https://www.turtleguardians.com/event/turtles-at-ten/
LOCATION:Facebook\, @TurtleGuardians
ATTACH;FMTTYPE=image/png:https://www.turtleguardians.com/wp-content/uploads/2022/01/turtles-at-10-1.png
END:VEVENT
BEGIN:VEVENT
DTSTART;TZID=America/Toronto:20210903T140000
DTEND;TZID=America/Toronto:20210903T143000
DTSTAMP:20260422T143749
CREATED:20210709T213849Z
LAST-MODIFIED:20210709T215551Z
UID:4460-1630677600-1630679400@www.turtleguardians.com
SUMMARY:Turtles at Two
DESCRIPTION:Learn how to help our shelled friends. Turtles are the most interesting and mystifying animals – they navigate using earth magnetics and the sun\, know where they are going\, hibernate within 1 metre of the previous years\, live for hundreds of years\, are able to shed tears\, feel through their shells\, become male or female depending on temperatures\, and more…\nGrace and Sydney\, our Turtle Guardian staff\, will introduce you to Jeremiah\, Timothy\, Beakler\, Figgy and the gang. Watch the turtles being fed\, see Jeremiah taking tours around the office on her skateboard\, see the eggs in our incubator and maybe even watch them hatch!\n\n\nTurtles at Two will be livestreamed on Facebook each week. Join us by following us @TurtleGuardians.
URL:https://www.turtleguardians.com/event/turtles-at-two-12/
ATTACH;FMTTYPE=image/jpeg:https://www.turtleguardians.com/wp-content/uploads/2021/07/TurtlesatTwoGraphicInsta-is-here-again.jpg
END:VEVENT
BEGIN:VEVENT
DTSTART;TZID=America/Toronto:20210831T140000
DTEND;TZID=America/Toronto:20210831T143000
DTSTAMP:20260422T143749
CREATED:20210709T213808Z
LAST-MODIFIED:20210709T215516Z
UID:4458-1630418400-1630420200@www.turtleguardians.com
SUMMARY:Turtles at Two
DESCRIPTION:Learn how to help our shelled friends. Turtles are the most interesting and mystifying animals – they navigate using earth magnetics and the sun\, know where they are going\, hibernate within 1 metre of the previous years\, live for hundreds of years\, are able to shed tears\, feel through their shells\, become male or female depending on temperatures\, and more…\nGrace and Sydney\, our Turtle Guardian staff\, will introduce you to Jeremiah\, Timothy\, Beakler\, Figgy and the gang. Watch the turtles being fed\, see Jeremiah taking tours around the office on her skateboard\, see the eggs in our incubator and maybe even watch them hatch!\n\n\nTurtles at Two will be livestreamed on Facebook each week. Join us by following us @TurtleGuardians.
URL:https://www.turtleguardians.com/event/turtles-at-two-11/
ATTACH;FMTTYPE=image/jpeg:https://www.turtleguardians.com/wp-content/uploads/2021/07/TurtlesatTwoGraphicInsta-is-here-again.jpg
END:VEVENT
BEGIN:VEVENT
DTSTART;TZID=America/Toronto:20210828T140000
DTEND;TZID=America/Toronto:20210828T170000
DTSTAMP:20260422T143749
CREATED:20210724T232322Z
LAST-MODIFIED:20210725T002112Z
UID:4523-1630159200-1630170000@www.turtleguardians.com
SUMMARY:Meet Our Oldest Relatives- The Turtles
DESCRIPTION:Evidence suggests that turtles roamed the earth before the dinosaurs and so they can be considered older than the dinosaurs! They have survived five mass extinctions and now facing new threats that seem unsurmountable. Learn how you can help our oldest relatives thrive and survive. Meet Sydney\, Grace and our live teaching turtles at the Haliburton Highlands Museum. Family fun and fascinating facts to advance your skills and knowledge.
URL:https://www.turtleguardians.com/event/meet-our-oldest-relatives-the-turtles/
ATTACH;FMTTYPE=image/jpeg:https://www.turtleguardians.com/wp-content/uploads/2021/07/turtles-are-dinosaurs-poster-scaled.jpg
END:VEVENT
BEGIN:VEVENT
DTSTART;TZID=America/Toronto:20210827T140000
DTEND;TZID=America/Toronto:20210827T143000
DTSTAMP:20260422T143749
CREATED:20210709T213718Z
LAST-MODIFIED:20210709T215437Z
UID:4456-1630072800-1630074600@www.turtleguardians.com
SUMMARY:Turtles at Two
DESCRIPTION:Learn how to help our shelled friends. Turtles are the most interesting and mystifying animals – they navigate using earth magnetics and the sun\, know where they are going\, hibernate within 1 metre of the previous years\, live for hundreds of years\, are able to shed tears\, feel through their shells\, become male or female depending on temperatures\, and more…\n\n\nTurtles at Two will be livestreamed on Facebook each week. Join us by following us @TurtleGuardians.
URL:https://www.turtleguardians.com/event/turtles-at-two-10/
ATTACH;FMTTYPE=image/jpeg:https://www.turtleguardians.com/wp-content/uploads/2021/07/TurtlesatTwoGraphicInsta-is-here-again.jpg
END:VEVENT
BEGIN:VEVENT
DTSTART;TZID=America/Toronto:20210821T100000
DTEND;TZID=America/Toronto:20210821T140000
DTSTAMP:20260422T143749
CREATED:20210724T231658Z
LAST-MODIFIED:20210724T231658Z
UID:4520-1629540000-1629554400@www.turtleguardians.com
SUMMARY:Teaching Turtles in Kinmount
DESCRIPTION:Meet Sydney\, Grace and our live teaching turtles in Kinmount at the library. Fun facts\, family fun to help you help our shelled friends.
URL:https://www.turtleguardians.com/event/teaching-turtles-in-kinmount/
LOCATION:Kinmount Public Library- outdoors
ATTACH;FMTTYPE=image/png:https://www.turtleguardians.com/wp-content/uploads/2021/07/LibraryVisitsHaliburtonKinmount.png
END:VEVENT
BEGIN:VEVENT
DTSTART;TZID=America/Toronto:20210820T140000
DTEND;TZID=America/Toronto:20210820T143000
DTSTAMP:20260422T143749
CREATED:20210709T213326Z
LAST-MODIFIED:20210709T215404Z
UID:4448-1629468000-1629469800@www.turtleguardians.com
SUMMARY:Turtles at Two
DESCRIPTION:Learn how to help our shelled friends. Turtles are the most interesting and mystifying animals – they navigate using earth magnetics and the sun\, know where they are going\, hibernate within 1 metre of the previous years\, live for hundreds of years\, are able to shed tears\, feel through their shells\, become male or female depending on temperatures\, and more…\nGrace and Sydney\, our Turtle Guardian staff\, will introduce you to Jeremiah\, Timothy\, Beakler\, Figgy and the gang. Watch the turtles being fed\, see Jeremiah taking tours around the office on her skateboard\, see the eggs in our incubator and maybe even watch them hatch!\n\n\nTurtles at Two will be livestreamed on Facebook each week. Join us by following us @TurtleGuardians.
URL:https://www.turtleguardians.com/event/turtles-at-two-6/
LOCATION:Facebook\, @TurtleGuardians
ATTACH;FMTTYPE=image/jpeg:https://www.turtleguardians.com/wp-content/uploads/2021/07/TurtlesatTwoGraphicInsta-is-here-again.jpg
END:VEVENT
BEGIN:VEVENT
DTSTART;TZID=America/Toronto:20210817T190000
DTEND;TZID=America/Toronto:20210817T210000
DTSTAMP:20260422T143749
CREATED:20210720T180611Z
LAST-MODIFIED:20210724T235549Z
UID:4493-1629226800-1629234000@www.turtleguardians.com
SUMMARY:Don't Let the Turtles Disappear
DESCRIPTION:Turtles have walked the earth for over 120M years\, surviving 5 mass extinctions…but now they are in jeaopordy. \nLearn about turtle biology\, and how you can help our shelled friends survive. Meet Sydney and Grace and our live teaching turtles too. \nBasecamp at the Haliburton Forest and Wildlife Reserve.
URL:https://www.turtleguardians.com/event/dont-let-the-turtles-disappear-tg-presentation-at-the-hali-forest/
LOCATION:Haliburton Forest and Wildlife Reserve Base Camp
ATTACH;FMTTYPE=image/jpeg:https://www.turtleguardians.com/wp-content/uploads/2021/07/TGPresentationPoster-Hali-Forest-scaled.jpg
END:VEVENT
BEGIN:VEVENT
DTSTART;TZID=America/Toronto:20210817T140000
DTEND;TZID=America/Toronto:20210817T143000
DTSTAMP:20260422T143749
CREATED:20210709T213511Z
LAST-MODIFIED:20210709T215322Z
UID:4452-1629208800-1629210600@www.turtleguardians.com
SUMMARY:Turtles at Two
DESCRIPTION:Learn how to help our shelled friends. Turtles are the most interesting and mystifying animals – they navigate using earth magnetics and the sun\, know where they are going\, hibernate within 1 metre of the previous years\, live for hundreds of years\, are able to shed tears\, feel through their shells\, become male or female depending on temperatures\, and more…\nGrace and Sydney\, our Turtle Guardian staff\, will introduce you to Jeremiah\, Timothy\, Beakler\, Figgy and the gang. Watch the turtles being fed\, see Jeremiah taking tours around the office on her skateboard\, see the eggs in our incubator and maybe even watch them hatch!\n\n\nTurtles at Two will be livestreamed on Facebook each week. Join us by following us @TurtleGuardians.
URL:https://www.turtleguardians.com/event/turtles-at-two-8/
LOCATION:Facebook\, @TurtleGuardians
ATTACH;FMTTYPE=image/jpeg:https://www.turtleguardians.com/wp-content/uploads/2021/07/TurtlesatTwoGraphicInsta-is-here-again.jpg
END:VEVENT
BEGIN:VEVENT
DTSTART;TZID=America/Toronto:20210814T120000
DTEND;TZID=America/Toronto:20210814T150000
DTSTAMP:20260422T143749
CREATED:20210724T232556Z
LAST-MODIFIED:20210724T233809Z
UID:4526-1628942400-1628953200@www.turtleguardians.com
SUMMARY:Volunteer BBQ!
DESCRIPTION:For our Road Researchers\, Nest Sitters\, and Wetland Watchers- our annual Turtle Guardian Turtle-fest.  Attendees must be registered volunteers to attend\, and may bring one guest. Vegan and Venison! \nThis is a volunteer appreciation luncheon.
URL:https://www.turtleguardians.com/event/volunteer-bbq/
LOCATION:The TG Headquarters. The portable building nest to the Haliburton Highlands Outdoors Association and Hatchery\, 6712 Gelert Road\, Haliburton\, Ontario\, K0M 1s0\, Canada
ATTACH;FMTTYPE=image/png:https://www.turtleguardians.com/wp-content/uploads/2021/07/Superhero-Baby-Shower-for-Boy-Invitation.png
END:VEVENT
BEGIN:VEVENT
DTSTART;TZID=America/Toronto:20210813T143000
DTEND;TZID=America/Toronto:20210813T143000
DTSTAMP:20260422T143749
CREATED:20210709T213421Z
LAST-MODIFIED:20210709T215247Z
UID:4450-1628865000-1628865000@www.turtleguardians.com
SUMMARY:Turtles at Two
DESCRIPTION:Learn how to help our shelled friends. Turtles are the most interesting and mystifying animals – they navigate using earth magnetics and the sun\, know where they are going\, hibernate within 1 metre of the previous years\, live for hundreds of years\, are able to shed tears\, feel through their shells\, become male or female depending on temperatures\, and more…\n\n\nTurtles at Two will be livestreamed on Facebook each week. Join us by following us @TurtleGuardians.
URL:https://www.turtleguardians.com/event/turtles-at-two-7/
LOCATION:Facebook\, @TurtleGuardians
ATTACH;FMTTYPE=image/jpeg:https://www.turtleguardians.com/wp-content/uploads/2021/07/TurtlesatTwoGraphicInsta-is-here-again.jpg
END:VEVENT
BEGIN:VEVENT
DTSTART;TZID=America/Toronto:20210812T100000
DTEND;TZID=America/Toronto:20210812T133000
DTSTAMP:20260422T143749
CREATED:20210724T231156Z
LAST-MODIFIED:20210724T231427Z
UID:4517-1628762400-1628775000@www.turtleguardians.com
SUMMARY:Teaching Turtles in Wilbeforce
DESCRIPTION:Meet Sydney\, Grace and the live Teaching Turtles at the Wilberforce Public Library. Fun Facts and Family Fun to help you help our shelled friends.
URL:https://www.turtleguardians.com/event/teaching-turtles-in-wilbeforce/
LOCATION:Wilberforce Public Library
ATTACH;FMTTYPE=image/png:https://www.turtleguardians.com/wp-content/uploads/2021/07/LibraryVisitsHaliburtonKinmount.png
END:VEVENT
BEGIN:VEVENT
DTSTART;TZID=America/Toronto:20210810T140000
DTEND;TZID=America/Toronto:20210810T143000
DTSTAMP:20260422T143749
CREATED:20210709T213234Z
LAST-MODIFIED:20210709T214208Z
UID:4446-1628604000-1628605800@www.turtleguardians.com
SUMMARY:Turtles at Two
DESCRIPTION:Learn how to help our shelled friends. Turtles are the most interesting and mystifying animals – they navigate using earth magnetics and the sun\, know where they are going\, hibernate within 1 metre of the previous years\, live for hundreds of years\, are able to shed tears\, feel through their shells\, become male or female depending on temperatures\, and more…\nGrace and Sydney\, our Turtle Guardian staff\, will introduce you to Jeremiah\, Timothy\, Beakler\, Figgy and the gang. Watch the turtles being fed\, see Jeremiah taking tours around the office on her skateboard\, see the eggs in our incubator and maybe even watch them hatch!\n\n\nTurtles at Two will be livestreamed on Facebook each week. Join us by following us @TurtleGuardians.
URL:https://www.turtleguardians.com/event/turtles-at-two-5/
LOCATION:Facebook\, @TurtleGuardians
ATTACH;FMTTYPE=image/jpeg:https://www.turtleguardians.com/wp-content/uploads/2021/07/TurtlesatTwoGraphicInsta-is-here-again.jpg
END:VEVENT
BEGIN:VEVENT
DTSTART;TZID=America/Toronto:20210806T140000
DTEND;TZID=America/Toronto:20210806T170000
DTSTAMP:20260422T143749
CREATED:20210709T213142Z
LAST-MODIFIED:20210709T213142Z
UID:4444-1628258400-1628269200@www.turtleguardians.com
SUMMARY:Turtles at Two Cancelled Today
DESCRIPTION:
URL:https://www.turtleguardians.com/event/turtles-at-two-cancelled-today-2/
END:VEVENT
BEGIN:VEVENT
DTSTART;TZID=America/Toronto:20210806T120000
DTEND;TZID=America/Toronto:20210806T153000
DTSTAMP:20260422T143749
CREATED:20210724T231005Z
LAST-MODIFIED:20210724T231005Z
UID:4514-1628251200-1628263800@www.turtleguardians.com
SUMMARY:Teaching Turtles Live at the Stanhope Library
DESCRIPTION:Meet Sydney\, Grace and the Live Teaching Turtles at the Stanhope Library. Cool facts and fun to help you help our shelled friends.
URL:https://www.turtleguardians.com/event/teaching-turtles-live-at-the-stanhope-library/
LOCATION:Stanhope Public Library
ATTACH;FMTTYPE=image/png:https://www.turtleguardians.com/wp-content/uploads/2021/07/LibraryVisitsHaliburtonKinmount.png
END:VEVENT
BEGIN:VEVENT
DTSTART;TZID=America/Toronto:20210804T100000
DTEND;TZID=America/Toronto:20210804T133000
DTSTAMP:20260422T143749
CREATED:20210724T230753Z
LAST-MODIFIED:20210724T230753Z
UID:4510-1628071200-1628083800@www.turtleguardians.com
SUMMARY:Turtle Guardians Live at the Minden Library
DESCRIPTION:Meet Grace\, Sydney\, and our Teaching Turtles at the Library. Live turtles\, lots of swag\, and so much cool information to help you help our shelled friends. Family friendly event.
URL:https://www.turtleguardians.com/event/turtle-guardians-live-at-the-minden-library/
LOCATION:Minden Public Library
ATTACH;FMTTYPE=image/png:https://www.turtleguardians.com/wp-content/uploads/2021/07/LibraryVisitsHaliburtonKinmount.png
END:VEVENT
BEGIN:VEVENT
DTSTART;TZID=America/Toronto:20210803T140000
DTEND;TZID=America/Toronto:20210803T170000
DTSTAMP:20260422T143749
CREATED:20210709T213112Z
LAST-MODIFIED:20210709T213112Z
UID:4442-1627999200-1628010000@www.turtleguardians.com
SUMMARY:Turtles at Two Cancelled Today
DESCRIPTION:
URL:https://www.turtleguardians.com/event/turtles-at-two-cancelled-today/
END:VEVENT
BEGIN:VEVENT
DTSTART;TZID=America/Toronto:20210803T100000
DTEND;TZID=America/Toronto:20210803T133000
DTSTAMP:20260422T143749
CREATED:20210709T215015Z
LAST-MODIFIED:20210709T215015Z
UID:4471-1627984800-1627997400@www.turtleguardians.com
SUMMARY:Turtle Library Visits- Dysart et al
DESCRIPTION:Meet our teaching turtles and learn about these amazing animals. Grace and Sydney\, our Turtle Guardian staff\, will teach you how to help a snapping turtle across a road\, how to tell the difference between Ontario’s 8 species of turtles\, and all about turtle biology. These are live turtle events and outside at our local libraries to ensure social distancing is in place. Please bring your facemask and hand sanitzer too! See you there!
URL:https://www.turtleguardians.com/event/turtle-library-visits-dysart-et-al/
LOCATION:Dysart et al library
ATTACH;FMTTYPE=image/png:https://www.turtleguardians.com/wp-content/uploads/2021/07/dysart-library-visit.png
END:VEVENT
BEGIN:VEVENT
DTSTART;TZID=America/Toronto:20210730T140000
DTEND;TZID=America/Toronto:20210730T143000
DTSTAMP:20260422T143749
CREATED:20210709T213011Z
LAST-MODIFIED:20210709T215210Z
UID:4440-1627653600-1627655400@www.turtleguardians.com
SUMMARY:Turtles at Two
DESCRIPTION:Learn how to help our shelled friends. Turtles are the most interesting and mystifying animals – they navigate using earth magnetics and the sun\, know where they are going\, hibernate within 1 metre of the previous years\, live for hundreds of years\, are able to shed tears\, feel through their shells\, become male or female depending on temperatures\, and more…\nGrace and Sydney\, our Turtle Guardian staff\, will introduce you to Jeremiah\, Timothy\, Beakler\, Figgy and the gang. Watch the turtles being fed\, see Jeremiah taking tours around the office on her skateboard\, see the eggs in our incubator and maybe even watch them hatch!\n\n\nTurtles at Two will be livestreamed on Facebook each week. Join us by following us @TurtleGuardians.
URL:https://www.turtleguardians.com/event/turtles-at-two-4/
LOCATION:Facebook\, @TurtleGuardians
ATTACH;FMTTYPE=image/jpeg:https://www.turtleguardians.com/wp-content/uploads/2021/07/TurtlesatTwoGraphicInsta-is-here-again.jpg
END:VEVENT
BEGIN:VEVENT
DTSTART;TZID=America/Toronto:20210727T140000
DTEND;TZID=America/Toronto:20210727T143000
DTSTAMP:20260422T143749
CREATED:20210709T213633Z
LAST-MODIFIED:20210709T215130Z
UID:4454-1627394400-1627396200@www.turtleguardians.com
SUMMARY:Turtles at Two
DESCRIPTION:Learn how to help our shelled friends. Turtles are the most interesting and mystifying animals – they navigate using earth magnetics and the sun\, know where they are going\, hibernate within 1 metre of the previous years\, live for hundreds of years\, are able to shed tears\, feel through their shells\, become male or female depending on temperatures\, and more…\n\n\nTurtles at Two will be livestreamed on Facebook each week. Join us by following us @TurtleGuardians.
URL:https://www.turtleguardians.com/event/turtles-at-two-9/
ATTACH;FMTTYPE=image/jpeg:https://www.turtleguardians.com/wp-content/uploads/2021/07/TurtlesatTwoGraphicInsta-is-here-again.jpg
END:VEVENT
BEGIN:VEVENT
DTSTART;TZID=America/Toronto:20210723T140000
DTEND;TZID=America/Toronto:20210723T143000
DTSTAMP:20260422T143749
CREATED:20210709T212815Z
LAST-MODIFIED:20210709T214453Z
UID:4436-1627048800-1627050600@www.turtleguardians.com
SUMMARY:Turtles at Two
DESCRIPTION:Learn how to help our shelled friends. Turtles are the most interesting and mystifying animals – they navigate using earth magnetics and the sun\, know where they are going\, hibernate within 1 metre of the previous years\, live for hundreds of years\, are able to shed tears\, feel through their shells\, become male or female depending on temperatures\, and more…\nGrace and Sydney\, our Turtle Guardian staff\, will introduce you to Jeremiah\, Timothy\, Beakler\, Figgy and the gang. Watch the turtles being fed\, see Jeremiah taking tours around the office on her skateboard\, see the eggs in our incubator and maybe even watch them hatch!\n\n\nTurtles at Two will be livestreamed on Facebook each week. Join us by following us @TurtleGuardians.
URL:https://www.turtleguardians.com/event/turtles-at-two-2/
LOCATION:Facebook\, @TurtleGuardians
ATTACH;FMTTYPE=image/jpeg:https://www.turtleguardians.com/wp-content/uploads/2021/07/TurtlesatTwoGraphicInsta-is-here-again.jpg
END:VEVENT
BEGIN:VEVENT
DTSTART;TZID=America/Toronto:20210720T140000
DTEND;TZID=America/Toronto:20210720T143000
DTSTAMP:20260422T143749
CREATED:20210709T212711Z
LAST-MODIFIED:20210709T214520Z
UID:4433-1626789600-1626791400@www.turtleguardians.com
SUMMARY:Turtles at Two
DESCRIPTION:Learn how to help our shelled friends. Turtles are the most interesting and mystifying animals – they navigate using earth magnetics and the sun\, know where they are going\, hibernate within 1 metre of the previous years\, live for hundreds of years\, are able to shed tears\, feel through their shells\, become male or female depending on temperatures\, and more…\nGrace and Sydney\, our Turtle Guardian staff\, will introduce you to Jeremiah\, Timothy\, Beakler\, Figgy and the gang. Watch the turtles being fed\, see Jeremiah taking tours around the office on her skateboard\, see the eggs in our incubator and maybe even watch them hatch!\n\n\nTurtles at Two will be livestreamed on Facebook each week. Join us by following us @TurtleGuardians.
URL:https://www.turtleguardians.com/event/turtles-at-two/
LOCATION:Facebook\, @TurtleGuardians
ATTACH;FMTTYPE=image/jpeg:https://www.turtleguardians.com/wp-content/uploads/2021/07/TurtlesatTwoGraphicInsta-is-here-again.jpg
END:VEVENT
END:VCALENDAR